Workbook

Sheet DETAIL ESTIMATE
A1: PROJECT | C1: DISCOUNT RETAIL STORE - TEXAS | Q1: Estimators:
A2: ADDRESS | C2: Texas | Q2: Reviewed By:
A3: SCOPE OF WORK | C3: MEP (Demolition, Plumbing, HVAC, Electrical) | H3: Please Confirm/Add Price
A4: Date of Plans | C4: 46244 | H4: Please Confirm Scope
A5: Date of Submission | C5: 46302
A6: =A$296 | C6: =P$296
A7: Sr. # | B7: DWG. No. | C7: DETAIL NO. | D7: SUB DETAIL | E7: COLOR CODE | F7: DESCRIPTION | G7: QUANTITY | H7: WASTE | I7: QTY. W/ WASTE | J7: UNIT | K7: LABOR/EQUIP. COST | L7: MATERIAL COST | M7: TOTAL LABOR | N7: TOTAL MATERIAL | O7: TOTAL UNIT COST | P7: TOTAL COST | Q7: DIVISION SUBTOTALS
A8: =IF(G8<>"",1+MAX($A$7:A7),"") | E8: 01 00 00 | F8: GENERAL REQUIREMENTS
A9: =IF(G9<>"",1+MAX($A$7:A8),"") | B9: P1/P2 | F9: Sanitary Line Video Scope Before Start Of Work And Before Turnover | G9: 1 | H9: 0 | I9: =G9*(1+H9) | J9: LS | K9: 0 | L9: 0 | M9: =K9*I9 | N9: =L9*I9 | O9: =L9+K9 | P9: =O9*I9
A10: =IF(G10<>"",1+MAX($A$7:A9),"") | B10: P2 | F10: Domestic Water Service Pressure Test Before Start Of Work | G10: 1 | H10: 0 | I10: =G10*(1+H10) | J10: LS | K10: 0 | L10: 0 | M10: =K10*I10 | N10: =L10*I10 | O10: =L10+K10 | P10: =O10*I10
A11: =IF(G11<>"",1+MAX($A$7:A10),"") | B11: P2 | F11: As-Built Drawings (Plumbing) | G11: 1 | H11: 0 | I11: =G11*(1+H11) | J11: LS | K11: 0 | L11: 0 | M11: =K11*I11 | N11: =L11*I11 | O11: =L11+K11 | P11: =O11*I11
A12: =IF(G12<>"",1+MAX($A$7:A11),"") | B12: P3 | F12: Plumbing Permits And Inspections | G12: 1 | H12: 0 | I12: =G12*(1+H12) | J12: LS | K12: 0 | L12: 0 | M12: =K12*I12 | N12: =L12*I12 | O12: =L12+K12 | P12: =O12*I12
A13: =IF(G13<>"",1+MAX($A$7:A12),"") | B13: P1 | F13: Gas Meter Verify Capacity, Replace As Required Demand: 1,716 CFH | G13: 1 | H13: 0 | I13: =G13*(1+H13) | J13: LS | K13: 0 | L13: 0 | M13: =K13*I13 | N13: =L13*I13 | O13: =L13+K13 | P13: =O13*I13
A14: =IF(G14<>"",1+MAX($A$7:A13),"") | B14: M2.0 | C14: M3.0 | F14: Air Balancing Of HVAC Systems | G14: 1 | H14: 0 | I14: =G14*(1+H14) | J14: LS | K14: 0 | L14: 0 | M14: =K14*I14 | N14: =L14*I14 | O14: =L14+K14 | P14: =O14*I14
A15: =IF(G15<>"",1+MAX($A$7:A14),"")
A16: =IF(G16<>"",1+MAX($A$7:A15),"") | F16: GENERAL REQUIREMENTS SUB TOTAL | M16: =SUM(M9:M15) | N16: =SUM(N9:N15) | Q16: =SUM(P9:P15)
A17: =IF(G17<>"",1+MAX($A$7:A16),"")
A18: =IF(G18<>"",1+MAX($A$7:A17),"") | E18: 02 00 00 | F18: DEMOLITION
A19: =IF(G19<>"",1+MAX($A$7:A18),"") | F19: MECHANICAL DEMOLITION
A20: =IF(G20<>"",1+MAX($A$7:A19),"") | B20: MD1.0 | F20: Remove Existing Rooftop Unit With Condensate Piping, Ductwork, Power And Control Wiring | G20: 4 | H20: 0 | I20: =G20*(1+H20) | J20: EA | K20: 0 | L20: 0 | M20: =K20*I20 | N20: =L20*I20 | O20: =L20+K20 | P20: =O20*I20
A21: =IF(G21<>"",1+MAX($A$7:A20),"") | B21: MD1.0 | F21: Weatherproof Curb Cap On Abandoned Curb Insulated Galvanized Steel | G21: 3 | H21: 0 | I21: =G21*(1+H21) | J21: EA | K21: 0 | L21: 0 | M21: =K21*I21 | N21: =L21*I21 | O21: =L21+K21 | P21: =O21*I21
A22: =IF(G22<>"",1+MAX($A$7:A21),"") | B22: MD1.0 | F22: Prepare Existing Roof Curb For New Adapter Curb And RTU | G22: 1 | H22: 0 | I22: =G22*(1+H22) | J22: EA | K22: 0 | L22: 0 | M22: =K22*I22 | N22: =L22*I22 | O22: =L22+K22 | P22: =O22*I22
A23: =IF(G23<>"",1+MAX($A$7:A22),"") | B23: MD1.0 | F23: Remove Unused Interior Equipment Ductwork, Diffusers, Grilles, Hangers, Controls And Piping | G23: 1 | H23: 0 | I23: =G23*(1+H23) | J23: LS | K23: 0 | L23: 0 | M23: =K23*I23 | N23: =L23*I23 | O23: =L23+K23 | P23: =O23*I23
A24: =IF(G24<>"",1+MAX($A$7:A23),"") | B24: MD1.0 | F24: Remove Unused Roof Equipment Patch Roof To Match Existing | G24: 1 | H24: 0 | I24: =G24*(1+H24) | J24: LS | K24: 0 | L24: 0 | M24: =K24*I24 | N24: =L24*I24 | O24: =L24+K24 | P24: =O24*I24
A25: =IF(G25<>"",1+MAX($A$7:A24),"")
A26: =IF(G26<>"",1+MAX($A$7:A25),"") | F26: PLUMBING DEMOLITION
A27: =IF(G27<>"",1+MAX($A$7:A26),"") | B27: P2 | F27: Remove Existing Water Closet | G27: 2 | H27: 0 | I27: =G27*(1+H27) | J27: EA | K27: 0 | L27: 0 | M27: =K27*I27 | N27: =L27*I27 | O27: =L27+K27 | P27: =O27*I27
A28: =IF(G28<>"",1+MAX($A$7:A27),"") | B28: P2 | F28: Remove Existing Lavatory / Sink | G28: 4 | H28: 0 | I28: =G28*(1+H28) | J28: EA | K28: 0 | L28: 0 | M28: =K28*I28 | N28: =L28*I28 | O28: =L28+K28 | P28: =O28*I28
A29: =IF(G29<>"",1+MAX($A$7:A28),"") | B29: P2 | F29: Remove Existing Floor Drain | G29: 2 | H29: 0 | I29: =G29*(1+H29) | J29: EA | K29: 0 | L29: 0 | M29: =K29*I29 | N29: =L29*I29 | O29: =L29+K29 | P29: =O29*I29
A30: =IF(G30<>"",1+MAX($A$7:A29),"") | B30: P2 | F30: Remove Existing Drinking Fountain | G30: 1 | H30: 0 | I30: =G30*(1+H30) | J30: EA | K30: 0 | L30: 0 | M30: =K30*I30 | N30: =L30*I30 | O30: =L30+K30 | P30: =O30*I30
A31: =IF(G31<>"",1+MAX($A$7:A30),"") | B31: P2 | F31: Remove Existing Urinal | G31: 2 | H31: 0 | I31: =G31*(1+H31) | J31: EA | K31: 0 | L31: 0 | M31: =K31*I31 | N31: =L31*I31 | O31: =L31+K31 | P31: =O31*I31
A32: =IF(G32<>"",1+MAX($A$7:A31),"")
A33: =IF(G33<>"",1+MAX($A$7:A32),"") | F33: ELECTRICAL DEMOLITION
A34: =IF(G34<>"",1+MAX($A$7:A33),"") | B34: E1/E2 | F34: Remove Existing Electrical Fixtures, Devices, Circuits And Panels | G34: 1 | H34: 0 | I34: =G34*(1+H34) | J34: LS | K34: 0 | L34: 0 | M34: =K34*I34 | N34: =L34*I34 | O34: =L34+K34 | P34: =O34*I34
A35: =IF(G35<>"",1+MAX($A$7:A34),"")
A36: =IF(G36<>"",1+MAX($A$7:A35),"") | F36: DEMOLITION SUB TOTAL | M36: =SUM(M19:M35) | N36: =SUM(N19:N35) | Q36: =SUM(P19:P35)
A37: =IF(G37<>"",1+MAX($A$7:A36),"")
A38: =IF(G38<>"",1+MAX($A$7:A37),"") | E38: 22 00 00 | F38: PLUMBING
A39: =IF(G39<>"",1+MAX($A$7:A38),"") | F39: DOMESTIC WATER SYSTEM
A40: =IF(G40<>"",1+MAX($A$7:A39),"")
...

Sheet PRICE SUMMARY
C3: PROJECT | D3: ='DETAIL ESTIMATE'!C$1 | I3: ='DETAIL ESTIMATE'!Q$1
C4: ADDRESS | D4: ='DETAIL ESTIMATE'!C$2
D5: DESCRIPTION | F5: LABOR W/O O&P | G5: MATERIAL W/O O&P | H5: SUBTOTAL W/O O&P | I5: TOTAL INCLUDING O&P
D6: GENERAL REQUIREMENTS | F6: ='DETAIL ESTIMATE'!M$16 | G6: ='DETAIL ESTIMATE'!N$16 | H6: =+F6+G6 | I6: =+H6*(1+E$23)
D7: DEMOLITION | F7: ='DETAIL ESTIMATE'!M$36 | G7: ='DETAIL ESTIMATE'!N$36 | H7: =+F7+G7 | I7: =+H7*(1+E$23)
D8: PLUMBING | F8: ='DETAIL ESTIMATE'!M$119 | G8: ='DETAIL ESTIMATE'!N$119 | H8: =+F8+G8 | I8: =+H8*(1+E$23)
D9: HVAC | F9: ='DETAIL ESTIMATE'!M$208 | G9: ='DETAIL ESTIMATE'!N$208 | H9: =+F9+G9 | I9: =+H9*(1+E$23)
D10: ELECTRICAL | F10: ='DETAIL ESTIMATE'!M$291 | G10: ='DETAIL ESTIMATE'!N$291 | H10: =+F10+G10 | I10: =+H10*(1+E$23)
D21: Subtotal | F21: =SUM(F6:F20) | G21: =SUM(G6:G20) | H21: =SUM(H6:H20) | I21: =SUM(I6:I20)
D22: ='DETAIL ESTIMATE'!A$294 | E22: ='DETAIL ESTIMATE'!K$294 | H22: =+G21*E22
D23: Overhead and profit | E23: ='DETAIL ESTIMATE'!K$295 | H23: =+H21*E23 | I23: =G21*E22
D24: TOTAL BASE BID (INCL. OVERHEAD AND PROFIT) | H24: =SUM(H21:H23) | I24: =SUM(I21:I23)
D26: See next tab for detailed estimate.
